BEGIN:VCALENDAR
VERSION:2.0
PRODID:-//Capital Nature - ECPv6.15.20//NONSGML v1.0//EN
CALSCALE:GREGORIAN
METHOD:PUBLISH
X-ORIGINAL-URL:https://capitalnature.org
X-WR-CALDESC:Events for Capital Nature
REFRESH-INTERVAL;VALUE=DURATION:PT1H
X-Robots-Tag:noindex
X-PUBLISHED-TTL:PT1H
BEGIN:VTIMEZONE
TZID:America/New_York
BEGIN:DAYLIGHT
TZOFFSETFROM:-0500
TZOFFSETTO:-0400
TZNAME:EDT
DTSTART:20250309T070000
END:DAYLIGHT
BEGIN:STANDARD
TZOFFSETFROM:-0400
TZOFFSETTO:-0500
TZNAME:EST
DTSTART:20251102T060000
END:STANDARD
BEGIN:DAYLIGHT
TZOFFSETFROM:-0500
TZOFFSETTO:-0400
TZNAME:EDT
DTSTART:20260308T070000
END:DAYLIGHT
BEGIN:STANDARD
TZOFFSETFROM:-0400
TZOFFSETTO:-0500
TZNAME:EST
DTSTART:20261101T060000
END:STANDARD
BEGIN:DAYLIGHT
TZOFFSETFROM:-0500
TZOFFSETTO:-0400
TZNAME:EDT
DTSTART:20270314T070000
END:DAYLIGHT
BEGIN:STANDARD
TZOFFSETFROM:-0400
TZOFFSETTO:-0500
TZNAME:EST
DTSTART:20271107T060000
END:STANDARD
END:VTIMEZONE
BEGIN:VEVENT
DTSTART;TZID=America/New_York:20260125T133000
DTEND;TZID=America/New_York:20260125T143000
DTSTAMP:20260424T115323
CREATED:20260114T211635Z
LAST-MODIFIED:20260114T211635Z
UID:10004033-1769347800-1769351400@capitalnature.org
SUMMARY:Dogs for Conservation (Virtual)
DESCRIPTION:(VA) (Fairfax County Parks) Join Laura Holder\, founder of Conservation Dogs Collective\, for an inside look at the groundbreaking work her team of canine conservationists is doing. These specially trained dogs are using their powerful noses to locate endangered species like bumblebee nests and turtles\, playing a vital role in wildlife preservation. They’re also helping to detect and eradicate invasive plant species and improving the health of our ecosystem.
URL:https://capitalnature.org/event/dogs-for-conservation-virtual/
LOCATION:VA
CATEGORIES:Animals,Conservation,Seminars and Lectures
END:VEVENT
BEGIN:VEVENT
DTSTART;TZID=America/New_York:20260127T183000
DTEND;TZID=America/New_York:20260127T200000
DTSTAMP:20260424T115323
CREATED:20260114T140444Z
LAST-MODIFIED:20260114T140444Z
UID:10004028-1769538600-1769544000@capitalnature.org
SUMMARY:Reducing Vehicle Collisions in Virginia (Virtual)
DESCRIPTION:(VA) (Wild Virginia) Explore how research\, local knowledge\, and public agencies are working together to reduce wildlife-vehicle conflicts and improve road safety\, starting in Loudoun County. Since 2023\, William & Mary’s Institute for Integrated Conservation (IIC) has partnered with the Virginia Department of Wildlife Resources to better understand where and why wildlife-vehicle collisions happen. Loudoun County\, which has the highest rate of these crashes in Virginia\, has been the primary focus of this work. \n 
URL:https://capitalnature.org/event/reducing-vehicle-collisions-in-virginia-virtual/
LOCATION:VA
CATEGORIES:Animals,Conservation,Seminars and Lectures
END:VEVENT
BEGIN:VEVENT
DTSTART;TZID=America/New_York:20260128T100000
DTEND;TZID=America/New_York:20260128T160000
DTSTAMP:20260424T115323
CREATED:20260114T224732Z
LAST-MODIFIED:20260114T224732Z
UID:10004048-1769594400-1769616000@capitalnature.org
SUMMARY:Pup Stroll Day at Meadowlark
DESCRIPTION:(VA) (NOVA Parks) GREAT NEWS! Now garden guests may enjoy Meadowlark Botanical Gardens with their favorite canines every Wednesday for Pup Stroll Wednesdays. On Wednesdays\, during regular daytime hours\, leashed dogs are welcome in the gardens. (Only service dogs are permitted on other days.) Please note: Garden admission ends at 6:30pm.
URL:https://capitalnature.org/event/pup-stroll-day-at-meadowlark-3/
LOCATION:Meadowlark Botanical Gardens\, 9750 Meadowlark Gardens\, Vienna\, VA\, 22182\, United States
CATEGORIES:Animals,Gardens,Outdoor Experience
END:VEVENT
BEGIN:VEVENT
DTSTART;TZID=America/New_York:20260128T190000
DTEND;TZID=America/New_York:20260128T200000
DTSTAMP:20260424T115323
CREATED:20260111T213503Z
LAST-MODIFIED:20260111T214540Z
UID:10003951-1769626800-1769630400@capitalnature.org
SUMMARY:Deep Dive: Salamanders of Virginia (Virtual)
DESCRIPTION:(VA) (Arlington Parks) This online talk will cover the common species of salamanders in Northern Virginia as well as the diversity and biology of these elusive amphibians. Adults.
URL:https://capitalnature.org/event/deep-dive-salamanders-of-virginia-virtual/
LOCATION:VA
CATEGORIES:Animals,Classes & Workshops
END:VEVENT
BEGIN:VEVENT
DTSTART;TZID=America/New_York:20260131T130000
DTEND;TZID=America/New_York:20260131T140000
DTSTAMP:20260424T115323
CREATED:20260114T214202Z
LAST-MODIFIED:20260114T214202Z
UID:10004038-1769864400-1769868000@capitalnature.org
SUMMARY:Winter Stream Life
DESCRIPTION:(VA) (Fairfax County Parks) Explore Walney Creek with a naturalist to meet some of the small creek critters (macroinvertebrates) that call it home. Learn why so many different types of macroinvertebrates are active in winter streams. The naturalist will demonstrate winter collecting and participants can help pick\, sort and learn to identify these magnificent critters. Ages 8 to Adult.
URL:https://capitalnature.org/event/winter-stream-life/
LOCATION:Ellanor C. Lawrence Park\, 5040 Walney Rd\, Chantilly\, VA\, 20151\, United States
CATEGORIES:Animals,Classes & Workshops,Winter
END:VEVENT
BEGIN:VEVENT
DTSTART;TZID=America/New_York:20260131T130000
DTEND;TZID=America/New_York:20260131T143000
DTSTAMP:20260424T115323
CREATED:20260114T212548Z
LAST-MODIFIED:20260114T212548Z
UID:10004036-1769864400-1769869800@capitalnature.org
SUMMARY:Super Salamander Healing Lab
DESCRIPTION:(VA) (Fairfax County Parks) Discover the amazing superpower of salamanders-they can regrow entire limbs. In this fun STEM workshop\, students became nature detectives and medical inventors to create super bandages inspired by these incredible creatures. Ages 11 to 14.
URL:https://capitalnature.org/event/super-salamander-healing-lab/
LOCATION:Lake Accotink Park\, 7500 Accotink Park Road\, Springfield\, VA\, 22150\, United States
CATEGORIES:Animals,Classes & Workshops
END:VEVENT
END:VCALENDAR