BEGIN:VCALENDAR
VERSION:2.0
PRODID:-//Capital Nature - ECPv6.15.20//NONSGML v1.0//EN
CALSCALE:GREGORIAN
METHOD:PUBLISH
X-WR-CALNAME:Capital Nature
X-ORIGINAL-URL:https://capitalnature.org
X-WR-CALDESC:Events for Capital Nature
REFRESH-INTERVAL;VALUE=DURATION:PT1H
X-Robots-Tag:noindex
X-PUBLISHED-TTL:PT1H
BEGIN:VTIMEZONE
TZID:America/New_York
BEGIN:DAYLIGHT
TZOFFSETFROM:-0500
TZOFFSETTO:-0400
TZNAME:EDT
DTSTART:20250309T070000
END:DAYLIGHT
BEGIN:STANDARD
TZOFFSETFROM:-0400
TZOFFSETTO:-0500
TZNAME:EST
DTSTART:20251102T060000
END:STANDARD
BEGIN:DAYLIGHT
TZOFFSETFROM:-0500
TZOFFSETTO:-0400
TZNAME:EDT
DTSTART:20260308T070000
END:DAYLIGHT
BEGIN:STANDARD
TZOFFSETFROM:-0400
TZOFFSETTO:-0500
TZNAME:EST
DTSTART:20261101T060000
END:STANDARD
BEGIN:DAYLIGHT
TZOFFSETFROM:-0500
TZOFFSETTO:-0400
TZNAME:EDT
DTSTART:20270314T070000
END:DAYLIGHT
BEGIN:STANDARD
TZOFFSETFROM:-0400
TZOFFSETTO:-0500
TZNAME:EST
DTSTART:20271107T060000
END:STANDARD
END:VTIMEZONE
BEGIN:VEVENT
DTSTART;TZID=America/New_York:20260424T000000
DTEND;TZID=America/New_York:20260427T235900
DTSTAMP:20260423T102844
CREATED:20260419T165527Z
LAST-MODIFIED:20260419T165527Z
UID:10004337-1776988800-1777334340@capitalnature.org
SUMMARY:2026 City Nature Challenge
DESCRIPTION:(DMV) Join community and citizen scientists all over the globe to observe wildlife: animals\, plants\, and fungi in backyards\, neighborhoods\, and parks in urban areas. Using iNaturalist to document them\, you can share your observation to help scientists track the wildlife that share our urban areas. See DC metro area events here and in this calendar. Register to track you progress and DC area observations. \nFind out about the global event.
URL:https://capitalnature.org/event/2026-city-nature-challenge/
LOCATION:VA
CATEGORIES:Citizen Science,Nature Observation,Outdoor Experience
END:VEVENT
BEGIN:VEVENT
DTSTART;TZID=America/New_York:20260427T070000
DTEND;TZID=America/New_York:20260427T090000
DTSTAMP:20260423T102844
CREATED:20260325T020521Z
LAST-MODIFIED:20260325T020521Z
UID:10004268-1777273200-1777280400@capitalnature.org
SUMMARY:Monday Morning Birdwalk at Huntley Meadows
DESCRIPTION:(VA) (Friends of Huntley Meadows) The Monday Morning Bird Walk is sponsored by the Friends of Huntley Meadows Park and takes place every Monday at 8 a.m. Following the walk\, members of the group gather at the nearby Denny’s for breakfast and to compile the morning’s bird list. All are welcome. \n 
URL:https://capitalnature.org/event/monday-morning-birdwalk-at-huntley-meadows-21/
LOCATION:Huntley Meadows\, 3701 Lockheed Blvd\, Alexandria\, VA\, 22306\, United States
CATEGORIES:Birds,Nature Observation,Outdoor Experience
GEO:38.75372;-77.109302
X-APPLE-STRUCTURED-LOCATION;VALUE=URI;X-ADDRESS=Huntley Meadows 3701 Lockheed Blvd Alexandria VA 22306 United States;X-APPLE-RADIUS=500;X-TITLE=3701 Lockheed Blvd:geo:-77.109302,38.75372
END:VEVENT
BEGIN:VEVENT
DTSTART;TZID=America/New_York:20260427T200000
DTEND;TZID=America/New_York:20260427T220000
DTSTAMP:20260423T102844
CREATED:20260416T155610Z
LAST-MODIFIED:20260416T160927Z
UID:10004333-1777320000-1777327200@capitalnature.org
SUMMARY:City Nature Challenge: Nocturnal Naturalists at Bull Run Regional Park
DESCRIPTION:(VA) (NOVA Parks) (Capital Nature) (MNCPPC) \nJoin us for this global community science event by making observations on the free app iNaturalist. We’ll set out to observe as many nocturnal critters as we can. We will also be setting up a mothing station and using a UV lights to locate critters that glow in the dark. It shapes up to be a great way to wrap up the City Nature Challenge and we hope to see you there!
URL:https://capitalnature.org/event/city-nature-challenge-nocturnal-naturalists-at-bull-run-regional-park/
LOCATION:Atlantis Water Park at Bull Run\, 7700 Bull Run Drive\, Centreville\, VA\, 20121\, United States
CATEGORIES:Citizen Science,Family,Nature Observation,Outdoor Experience
GEO:38.8057317;-77.4759334
X-APPLE-STRUCTURED-LOCATION;VALUE=URI;X-ADDRESS=Atlantis Water Park at Bull Run 7700 Bull Run Drive Centreville VA 20121 United States;X-APPLE-RADIUS=500;X-TITLE=7700 Bull Run Drive:geo:-77.4759334,38.8057317
END:VEVENT
END:VCALENDAR