BEGIN:VCALENDAR
VERSION:2.0
PRODID:-//Capital Nature - ECPv6.15.20//NONSGML v1.0//EN
CALSCALE:GREGORIAN
METHOD:PUBLISH
X-ORIGINAL-URL:https://capitalnature.org
X-WR-CALDESC:Events for Capital Nature
REFRESH-INTERVAL;VALUE=DURATION:PT1H
X-Robots-Tag:noindex
X-PUBLISHED-TTL:PT1H
BEGIN:VTIMEZONE
TZID:America/New_York
BEGIN:DAYLIGHT
TZOFFSETFROM:-0500
TZOFFSETTO:-0400
TZNAME:EDT
DTSTART:20250309T070000
END:DAYLIGHT
BEGIN:STANDARD
TZOFFSETFROM:-0400
TZOFFSETTO:-0500
TZNAME:EST
DTSTART:20251102T060000
END:STANDARD
BEGIN:DAYLIGHT
TZOFFSETFROM:-0500
TZOFFSETTO:-0400
TZNAME:EDT
DTSTART:20260308T070000
END:DAYLIGHT
BEGIN:STANDARD
TZOFFSETFROM:-0400
TZOFFSETTO:-0500
TZNAME:EST
DTSTART:20261101T060000
END:STANDARD
BEGIN:DAYLIGHT
TZOFFSETFROM:-0500
TZOFFSETTO:-0400
TZNAME:EDT
DTSTART:20270314T070000
END:DAYLIGHT
BEGIN:STANDARD
TZOFFSETFROM:-0400
TZOFFSETTO:-0500
TZNAME:EST
DTSTART:20271107T060000
END:STANDARD
END:VTIMEZONE
BEGIN:VEVENT
DTSTART;VALUE=DATE:20260313
DTEND;VALUE=DATE:20260417
DTSTAMP:20260423T104002
CREATED:20260308T225319Z
LAST-MODIFIED:20260308T225319Z
UID:10004177-1773360000-1776383999@capitalnature.org
SUMMARY:National Cherry Blossom Festival
DESCRIPTION:(DC)(MD)(VA) The four-week festival celebrates the enduring friendship between the people of the United States and Japan and the beauty of DC’s iconic cherry blossom trees with diverse and creative programming. Events will be happening throughout the DC metro area.
URL:https://capitalnature.org/event/national-cherry-blossom-festival/
LOCATION:VA
CATEGORIES:Social and Cultural,Trees
ORGANIZER;CN="National Cherry Blossom Festival":MAILTO:ncbf@ncbfdc.org
END:VEVENT
BEGIN:VEVENT
DTSTART;TZID=America/New_York:20260409T083000
DTEND;TZID=America/New_York:20260409T113000
DTSTAMP:20260423T104002
CREATED:20260309T132301Z
LAST-MODIFIED:20260309T132301Z
UID:10004189-1775723400-1775734200@capitalnature.org
SUMMARY:Spring Walk on Theodore Roosevelt Island (Wait List)
DESCRIPTION:(DC) (Smithsonian Associates) Enjoy a morning walk on a natural oasis in the Potomac River with Melanie Choukas-Bradley\, the author of Finding Solace at Theodore Roosevelt Island. The nearly 2-mile path follows Theodore Roosevelt Island’s shore and moves deep into the swamp and tidal inlet along the boardwalk where willows\, bald cypresses\, and cattails frame views of Washington\, D.C. \nChoukas-Bradley shares an overview of the landscape’s fascinating mix of trees\, wildflowers\, birds\, and other wildlife and highlights the island’s history and the legacy of the naturalist and conservationist president it memorializes. The morning also includes pauses for moments of guided forest bathing to quietly soak up the beauty of this wild island near the capital city.
URL:https://capitalnature.org/event/spring-walk-on-theodore-roosevelt-island-wait-list/
LOCATION:Theodore Roosevelt Island\, Washington DC\, United States
CATEGORIES:Nature Observation,Outdoor Experience
END:VEVENT
BEGIN:VEVENT
DTSTART;TZID=America/New_York:20260409T103000
DTEND;TZID=America/New_York:20260409T113000
DTSTAMP:20260423T104002
CREATED:20260324T235859Z
LAST-MODIFIED:20260324T235859Z
UID:10004239-1775730600-1775734200@capitalnature.org
SUMMARY:The Hummingbirds are Coming!
DESCRIPTION:(MD) (Montgomery Parks) The ruby-throats are on their way north! Learn more about these hummers as we track their progress into our area. We’ll learn how to attract them into your yard\, and make a feeder to take home. Ages 3 to 5.
URL:https://capitalnature.org/event/the-hummingbirds-are-coming/
LOCATION:Maydale Nature Classroom\, 1638 Maydale Drive\, Colesville\, MD\, 20905\, United States
CATEGORIES:Birds,Children,Nature Play
END:VEVENT
BEGIN:VEVENT
DTSTART;TZID=America/New_York:20260409T143000
DTEND;TZID=America/New_York:20260409T151500
DTSTAMP:20260423T104002
CREATED:20260323T162049Z
LAST-MODIFIED:20260323T162049Z
UID:10004206-1775745000-1775747700@capitalnature.org
SUMMARY:Spring Garden Tour at Hillwood
DESCRIPTION:(DC) (Hillwood) Explore Hillwood’s magnificent spring displays featuring tens of thousands of cheerful bulbs. Learn about the design process that led to this year’s unique display and first-hand stories of practical gardening lessons. Tickets are distributed at the Ellen MacNeille Charles Visitor Center upon opening each day. This forty-five-minute tour is limited to twenty and meets in the visitor center conservatory.
URL:https://capitalnature.org/event/spring-garden-tour-at-hillwood-2/
LOCATION:Hillwood Estate\, 4155 Linnean Avenue\, NW\, Washington\, DC\, 20008\, United States
CATEGORIES:Garden Experience,Plants,Tour
GEO:38.9436253;-77.0526371
X-APPLE-STRUCTURED-LOCATION;VALUE=URI;X-ADDRESS=Hillwood Estate 4155 Linnean Avenue NW Washington DC 20008 United States;X-APPLE-RADIUS=500;X-TITLE=4155 Linnean Avenue\, NW:geo:-77.0526371,38.9436253
END:VEVENT
BEGIN:VEVENT
DTSTART;TZID=America/New_York:20260409T190000
DTEND;TZID=America/New_York:20260409T203000
DTSTAMP:20260423T104002
CREATED:20260324T212859Z
LAST-MODIFIED:20260324T212859Z
UID:10004223-1775761200-1775766600@capitalnature.org
SUMMARY:Florals: Art\, Memory\, and Meaning (Virtual)
DESCRIPTION:(DC) (US Botanic Garden) Garden historian and author Abra Lee joins native Washingtonian floral artist and author Teresa Speight\, whose celebrated book “Black Flora: Inspiring Profiles of Floriculture’s New Vanguard” features as one of Abra’s favorite books. Together Abra and Teresa will explore the connective power of orchids and florals through both storytelling and lived creative practice.
URL:https://capitalnature.org/event/florals-art-memory-and-meaning-virtual/
LOCATION:VA
CATEGORIES:Plants,Seminars and Lectures,Social & Cultural
END:VEVENT
END:VCALENDAR