BEGIN:VCALENDAR
VERSION:2.0
PRODID:-//Capital Nature - ECPv6.15.20//NONSGML v1.0//EN
CALSCALE:GREGORIAN
METHOD:PUBLISH
X-ORIGINAL-URL:https://capitalnature.org
X-WR-CALDESC:Events for Capital Nature
REFRESH-INTERVAL;VALUE=DURATION:PT1H
X-Robots-Tag:noindex
X-PUBLISHED-TTL:PT1H
BEGIN:VTIMEZONE
TZID:America/New_York
BEGIN:DAYLIGHT
TZOFFSETFROM:-0500
TZOFFSETTO:-0400
TZNAME:EDT
DTSTART:20250309T070000
END:DAYLIGHT
BEGIN:STANDARD
TZOFFSETFROM:-0400
TZOFFSETTO:-0500
TZNAME:EST
DTSTART:20251102T060000
END:STANDARD
BEGIN:DAYLIGHT
TZOFFSETFROM:-0500
TZOFFSETTO:-0400
TZNAME:EDT
DTSTART:20260308T070000
END:DAYLIGHT
BEGIN:STANDARD
TZOFFSETFROM:-0400
TZOFFSETTO:-0500
TZNAME:EST
DTSTART:20261101T060000
END:STANDARD
BEGIN:DAYLIGHT
TZOFFSETFROM:-0500
TZOFFSETTO:-0400
TZNAME:EDT
DTSTART:20270314T070000
END:DAYLIGHT
BEGIN:STANDARD
TZOFFSETFROM:-0400
TZOFFSETTO:-0500
TZNAME:EST
DTSTART:20271107T060000
END:STANDARD
END:VTIMEZONE
BEGIN:VEVENT
DTSTART;VALUE=DATE:20260313
DTEND;VALUE=DATE:20260417
DTSTAMP:20260423T102957
CREATED:20260308T225319Z
LAST-MODIFIED:20260308T225319Z
UID:10004177-1773360000-1776383999@capitalnature.org
SUMMARY:National Cherry Blossom Festival
DESCRIPTION:(DC)(MD)(VA) The four-week festival celebrates the enduring friendship between the people of the United States and Japan and the beauty of DC’s iconic cherry blossom trees with diverse and creative programming. Events will be happening throughout the DC metro area.
URL:https://capitalnature.org/event/national-cherry-blossom-festival/
LOCATION:VA
CATEGORIES:Social and Cultural,Trees
ORGANIZER;CN="National Cherry Blossom Festival":MAILTO:ncbf@ncbfdc.org
END:VEVENT
BEGIN:VEVENT
DTSTART;TZID=America/New_York:20260407T083000
DTEND;TZID=America/New_York:20260407T100000
DTSTAMP:20260423T102957
CREATED:20260325T020833Z
LAST-MODIFIED:20260325T020833Z
UID:10004272-1775550600-1775556000@capitalnature.org
SUMMARY:Tuesday Morning Bird Walk at Kenilworth
DESCRIPTION:(DC) (National Park Service) We invite you to join National Park Service volunteer and expert birder Molly Hermann for an engaging bird walk at Kenilworth Aquatic Gardens. This event is open to all\, including those new to birding. We encourage participants to bring water\, sunscreen\, and binoculars if available. A limited number of binoculars are available for loan with a photo ID. \nThe walk will be conducted at a leisurely pace\, covering approximately one mile. We will gather in front of the visitor center\, and the duration of the walk will typically range from 1.5 to 2 hours\, depending on our observations. We look forward to sharing this delightful experience with you!
URL:https://capitalnature.org/event/tuesday-morning-bird-walk-at-kenilworth-7/
LOCATION:Kenilworth Aquatic Gardens\, 1550 Anacostia Ave\, NE\, Washington DC\, 20019\, United States
CATEGORIES:Birds,Nature Observation,Outdoor Experience
END:VEVENT
BEGIN:VEVENT
DTSTART;TZID=America/New_York:20260407T143000
DTEND;TZID=America/New_York:20260407T151500
DTSTAMP:20260423T102957
CREATED:20260323T161939Z
LAST-MODIFIED:20260323T161939Z
UID:10004205-1775572200-1775574900@capitalnature.org
SUMMARY:Spring Garden Tour at Hillwood
DESCRIPTION:(DC) (Hillwood) Explore Hillwood’s magnificent spring displays featuring tens of thousands of cheerful bulbs. Learn about the design process that led to this year’s unique display and first-hand stories of practical gardening lessons. Tickets are distributed at the Ellen MacNeille Charles Visitor Center upon opening each day. This forty-five-minute tour is limited to twenty and meets in the visitor center conservatory.
URL:https://capitalnature.org/event/spring-garden-tour-at-hillwood/
LOCATION:Hillwood Estate\, 4155 Linnean Avenue\, NW\, Washington\, DC\, 20008\, United States
CATEGORIES:Garden Experience,Plants,Tour
GEO:38.9436253;-77.0526371
X-APPLE-STRUCTURED-LOCATION;VALUE=URI;X-ADDRESS=Hillwood Estate 4155 Linnean Avenue NW Washington DC 20008 United States;X-APPLE-RADIUS=500;X-TITLE=4155 Linnean Avenue\, NW:geo:-77.0526371,38.9436253
END:VEVENT
END:VCALENDAR