BEGIN:VCALENDAR
VERSION:2.0
PRODID:-//Capital Nature - ECPv6.15.20//NONSGML v1.0//EN
CALSCALE:GREGORIAN
METHOD:PUBLISH
X-ORIGINAL-URL:https://capitalnature.org
X-WR-CALDESC:Events for Capital Nature
REFRESH-INTERVAL;VALUE=DURATION:PT1H
X-Robots-Tag:noindex
X-PUBLISHED-TTL:PT1H
BEGIN:VTIMEZONE
TZID:America/New_York
BEGIN:DAYLIGHT
TZOFFSETFROM:-0500
TZOFFSETTO:-0400
TZNAME:EDT
DTSTART:20250309T070000
END:DAYLIGHT
BEGIN:STANDARD
TZOFFSETFROM:-0400
TZOFFSETTO:-0500
TZNAME:EST
DTSTART:20251102T060000
END:STANDARD
BEGIN:DAYLIGHT
TZOFFSETFROM:-0500
TZOFFSETTO:-0400
TZNAME:EDT
DTSTART:20260308T070000
END:DAYLIGHT
BEGIN:STANDARD
TZOFFSETFROM:-0400
TZOFFSETTO:-0500
TZNAME:EST
DTSTART:20261101T060000
END:STANDARD
BEGIN:DAYLIGHT
TZOFFSETFROM:-0500
TZOFFSETTO:-0400
TZNAME:EDT
DTSTART:20270314T070000
END:DAYLIGHT
BEGIN:STANDARD
TZOFFSETFROM:-0400
TZOFFSETTO:-0500
TZNAME:EST
DTSTART:20271107T060000
END:STANDARD
END:VTIMEZONE
BEGIN:VEVENT
DTSTART;TZID=America/New_York:20260311T113000
DTEND;TZID=America/New_York:20260311T133000
DTSTAMP:20260423T120544
CREATED:20260308T230115Z
LAST-MODIFIED:20260308T230115Z
UID:10004180-1773228600-1773235800@capitalnature.org
SUMMARY:Growing Orchids at Home
DESCRIPTION:(DC) (US Botanic Garden) Meet an orchid expert from Smithsonian Gardens or the United States Botanic Garden and learn more about this incredible plant family! This week\, USBG Gardener (Advanced) George Guenthner will share tips for caring for orchids at home\, including how to repot an orchid. Drop in at any time during the program and be sure to bring your orchid questions. \nThis program is offered in partnership with Smithsonian Gardens and the More than a Flower: The Connective Power of Orchids exhibition at the National Museum of African American History and Culture (NMAAHC). Free timed-entry passes are required.
URL:https://capitalnature.org/event/growing-orchids-at-home-2/
LOCATION:Smithsonian National Museum of African American History and Culture\, 1400 Constitution Ave. NW\, Washington\, DC\, 20560
CATEGORIES:Classes & Workshops,Plants
GEO:38.8910607;-77.0325883
X-APPLE-STRUCTURED-LOCATION;VALUE=URI;X-ADDRESS=Smithsonian National Museum of African American History and Culture 1400 Constitution Ave. NW Washington DC 20560;X-APPLE-RADIUS=500;X-TITLE=1400 Constitution Ave. NW:geo:-77.0325883,38.8910607
END:VEVENT
BEGIN:VEVENT
DTSTART;TZID=America/New_York:20260311T180000
DTEND;TZID=America/New_York:20260311T193000
DTSTAMP:20260423T120544
CREATED:20260308T220040Z
LAST-MODIFIED:20260308T220040Z
UID:10004160-1773252000-1773257400@capitalnature.org
SUMMARY:Our Watershed
DESCRIPTION:(DC) (Rock Creek Conservancy) Join Stream Team Leaders Kathy Sykes and Andrea Contreras for an engaging presentation on the Lower Rock Creek watershed and why its health matters to our community. This talk will explore what a watershed is\, how everyday activities impact local streams\, and the key indicators of a healthy watershed—from salt and bacteria levels to biodiversity and aquatic life.
URL:https://capitalnature.org/event/our-watershed/
LOCATION:Tenleytown Library\, 4450 Wisconsin Ave NW\, Washington\, DC\, 20016\, United States
CATEGORIES:Conservation,Seminars and Lectures,Watershed Ecology
GEO:38.9475805;-77.0799822
X-APPLE-STRUCTURED-LOCATION;VALUE=URI;X-ADDRESS=Tenleytown Library 4450 Wisconsin Ave NW Washington DC 20016 United States;X-APPLE-RADIUS=500;X-TITLE=4450 Wisconsin Ave NW:geo:-77.0799822,38.9475805
END:VEVENT
END:VCALENDAR