BEGIN:VCALENDAR
VERSION:2.0
PRODID:-//Capital Nature - ECPv6.15.20//NONSGML v1.0//EN
CALSCALE:GREGORIAN
METHOD:PUBLISH
X-WR-CALNAME:Capital Nature
X-ORIGINAL-URL:https://capitalnature.org
X-WR-CALDESC:Events for Capital Nature
REFRESH-INTERVAL;VALUE=DURATION:PT1H
X-Robots-Tag:noindex
X-PUBLISHED-TTL:PT1H
BEGIN:VTIMEZONE
TZID:America/New_York
BEGIN:DAYLIGHT
TZOFFSETFROM:-0500
TZOFFSETTO:-0400
TZNAME:EDT
DTSTART:20250309T070000
END:DAYLIGHT
BEGIN:STANDARD
TZOFFSETFROM:-0400
TZOFFSETTO:-0500
TZNAME:EST
DTSTART:20251102T060000
END:STANDARD
BEGIN:DAYLIGHT
TZOFFSETFROM:-0500
TZOFFSETTO:-0400
TZNAME:EDT
DTSTART:20260308T070000
END:DAYLIGHT
BEGIN:STANDARD
TZOFFSETFROM:-0400
TZOFFSETTO:-0500
TZNAME:EST
DTSTART:20261101T060000
END:STANDARD
BEGIN:DAYLIGHT
TZOFFSETFROM:-0500
TZOFFSETTO:-0400
TZNAME:EDT
DTSTART:20270314T070000
END:DAYLIGHT
BEGIN:STANDARD
TZOFFSETFROM:-0400
TZOFFSETTO:-0500
TZNAME:EST
DTSTART:20271107T060000
END:STANDARD
END:VTIMEZONE
BEGIN:VEVENT
DTSTART;TZID=America/New_York:20260211T100000
DTEND;TZID=America/New_York:20260211T160000
DTSTAMP:20260423T222333
CREATED:20260114T225049Z
LAST-MODIFIED:20260114T225049Z
UID:10004051-1770804000-1770825600@capitalnature.org
SUMMARY:Pup Stroll Day at Meadowlark
DESCRIPTION:(VA) (NOVA Parks) GREAT NEWS! Now garden guests may enjoy Meadowlark Botanical Gardens with their favorite canines every Wednesday for Pup Stroll Wednesdays. On Wednesdays\, during regular daytime hours\, leashed dogs are welcome in the gardens. (Only service dogs are permitted on other days.) Please note: Garden admission ends at 6:30pm.
URL:https://capitalnature.org/event/pup-stroll-day-at-meadowlark-5/
LOCATION:Meadowlark Botanical Gardens\, 9750 Meadowlark Gardens\, Vienna\, VA\, 22182\, United States
CATEGORIES:Animals,Gardens,Outdoor Experience
END:VEVENT
BEGIN:VEVENT
DTSTART;TZID=America/New_York:20260211T113000
DTEND;TZID=America/New_York:20260211T133000
DTSTAMP:20260423T222333
CREATED:20260206T030655Z
LAST-MODIFIED:20260206T030655Z
UID:10004099-1770809400-1770816600@capitalnature.org
SUMMARY:Growing Orchids at Home
DESCRIPTION:(DC) (US Botanic Garden) Meet an orchid expert from Smithsonian Gardens or the United States Botanic Garden and learn more about this incredible plant family! This week\, USBG Gardener (Advanced) George Guenthner will share tips for caring for orchids at home\, including how to repot an orchid. Drop in at any time during the program and be sure to bring your orchid questions. \nThis program is offered in partnership with Smithsonian Gardens and the More than a Flower: The Connective Power of Orchids exhibition at the National Museum of African American History and Culture (NMAAHC). Free timed-entry passes are required.
URL:https://capitalnature.org/event/growing-orchids-at-home/
LOCATION:Smithsonian National Museum of African American History and Culture\, 1400 Constitution Ave. NW\, Washington\, DC\, 20560
CATEGORIES:Classes & Workshops,Plants
GEO:38.8910607;-77.0325883
X-APPLE-STRUCTURED-LOCATION;VALUE=URI;X-ADDRESS=Smithsonian National Museum of African American History and Culture 1400 Constitution Ave. NW Washington DC 20560;X-APPLE-RADIUS=500;X-TITLE=1400 Constitution Ave. NW:geo:-77.0325883,38.8910607
END:VEVENT
BEGIN:VEVENT
DTSTART;TZID=America/New_York:20260211T120000
DTEND;TZID=America/New_York:20260211T160000
DTSTAMP:20260423T222333
CREATED:20260114T010236Z
LAST-MODIFIED:20260114T010252Z
UID:10004006-1770811200-1770825600@capitalnature.org
SUMMARY:Ice Skating at Canal Park
DESCRIPTION:(DC) (Friends of Fort Dupont Ice Arena) Join the Winter fun at Canal Park Ice Rink! Public skating sessions are available seven days a week during the winter. Sessions are 90 minutes long\, with a break at the half-way point to resurface the ice. \nThe rink is open through March 2nd. Daily hours vary.
URL:https://capitalnature.org/event/ice-skating-at-canal-park-10/
LOCATION:Canal Park\, 200 M Street SE\, Washington\, DC\, 20003\, United States
CATEGORIES:Outdoor Experience,Winter
GEO:38.8779464;-77.0032763
X-APPLE-STRUCTURED-LOCATION;VALUE=URI;X-ADDRESS=Canal Park 200 M Street SE Washington DC 20003 United States;X-APPLE-RADIUS=500;X-TITLE=200 M Street SE:geo:-77.0032763,38.8779464
END:VEVENT
BEGIN:VEVENT
DTSTART;TZID=America/New_York:20260211T133000
DTEND;TZID=America/New_York:20260211T160000
DTSTAMP:20260423T222333
CREATED:20260206T032926Z
LAST-MODIFIED:20260206T032926Z
UID:10004105-1770816600-1770825600@capitalnature.org
SUMMARY:Birds and Nature in Collage (Virtual)
DESCRIPTION:(DC0 (Smithsonian Associates) Use collage\, a highly versatile and accessible art form\, to bring the bright nature of spring into your artwork. Sketch birds and nature\, then combine your drawings with paint and paper\, adding textures to create mixed-media art. Construct your narrative as you alter your work with a range of materials and techniques including photo transfers\, layered drawings and paintings\, and found objects. All skill levels are welcome. \nThe instructor is Marcie Wolf-Hubbard. This program includes 4 sessions\, 2.5 hours each.
URL:https://capitalnature.org/event/birds-and-nature-in-collage-virtual/
LOCATION:VA
CATEGORIES:Art,Birds,Classes & Workshops
END:VEVENT
BEGIN:VEVENT
DTSTART;TZID=America/New_York:20260211T190000
DTEND;TZID=America/New_York:20260211T200000
DTSTAMP:20260423T222333
CREATED:20260206T035029Z
LAST-MODIFIED:20260206T035029Z
UID:10004113-1770836400-1770840000@capitalnature.org
SUMMARY:How to Participate in Great Backyard Bird Count (Virtual)
DESCRIPTION:(DMV) (Audubon and Cornell Lab) Embrace the joy of birds by participating in the Great Backyard Bird Count (GBBC) taking place February 13-16\, 2026. This lively\, beginner-friendly webinar will inspire you to deepen your connection with birds while joining a worldwide count. \nJoin this one-hour live event to discover tips\, tricks\, and ideas to prepare for the GBBC\, a fun and impactful global community science event! GBBC team members will share how to participate with confidence\, while special guest and author Julia Zarankin explores beginner birding and the love and joy of backyard birds.
URL:https://capitalnature.org/event/how-to-participate-in-great-backyard-bird-count-virtual/
LOCATION:VA
CATEGORIES:Birds,Citizen Science,Classes & Workshops
ORGANIZER;CN="National Audubon Society":MAILTO:customerservice@audubon.org
END:VEVENT
BEGIN:VEVENT
DTSTART;TZID=America/New_York:20260211T190000
DTEND;TZID=America/New_York:20260211T203000
DTSTAMP:20260423T222333
CREATED:20260111T210901Z
LAST-MODIFIED:20260111T211055Z
UID:10003946-1770836400-1770841800@capitalnature.org
SUMMARY:Frog Watch Training (Virtual)
DESCRIPTION:(MD) (Natural History Society of Maryland) FrogWatch is a nationwide citizen science program that tracks frog populations throughout the United States. Participation is a fun way to learn about amphibians as well as getting to know your local wetlands and frog & toad species. In the workshop you will learn how to identify frog and toad calls and how to document their calling activity at your local site to provide invaluable data on frog and toad populations in your community. \nParticipants will choose a monitoring site that is easily accessible and close to where they live or work to listen to frogs that are calling throughout the breeding season (February 1st – August 31st).
URL:https://capitalnature.org/event/frog-watch-training-virtual/
LOCATION:VA
CATEGORIES:Animals,Citizen Science,Classes & Workshops
END:VEVENT
END:VCALENDAR